BEGIN:VCALENDAR
VERSION:2.0
PRODID:-//Building Peaceful Bridges - ECPv6.15.17.1//NONSGML v1.0//EN
CALSCALE:GREGORIAN
METHOD:PUBLISH
X-WR-CALNAME:Building Peaceful Bridges
X-ORIGINAL-URL:https://www.buildingpeacefulbridges.org
X-WR-CALDESC:Events for Building Peaceful Bridges
REFRESH-INTERVAL;VALUE=DURATION:PT1H
X-Robots-Tag:noindex
X-PUBLISHED-TTL:PT1H
BEGIN:VTIMEZONE
TZID:America/Chicago
BEGIN:DAYLIGHT
TZOFFSETFROM:-0600
TZOFFSETTO:-0500
TZNAME:CDT
DTSTART:20220313T080000
END:DAYLIGHT
BEGIN:STANDARD
TZOFFSETFROM:-0500
TZOFFSETTO:-0600
TZNAME:CST
DTSTART:20221106T070000
END:STANDARD
BEGIN:DAYLIGHT
TZOFFSETFROM:-0600
TZOFFSETTO:-0500
TZNAME:CDT
DTSTART:20230312T080000
END:DAYLIGHT
BEGIN:STANDARD
TZOFFSETFROM:-0500
TZOFFSETTO:-0600
TZNAME:CST
DTSTART:20231105T070000
END:STANDARD
BEGIN:DAYLIGHT
TZOFFSETFROM:-0600
TZOFFSETTO:-0500
TZNAME:CDT
DTSTART:20240310T080000
END:DAYLIGHT
BEGIN:STANDARD
TZOFFSETFROM:-0500
TZOFFSETTO:-0600
TZNAME:CST
DTSTART:20241103T070000
END:STANDARD
BEGIN:DAYLIGHT
TZOFFSETFROM:-0600
TZOFFSETTO:-0500
TZNAME:CDT
DTSTART:20250309T080000
END:DAYLIGHT
BEGIN:STANDARD
TZOFFSETFROM:-0500
TZOFFSETTO:-0600
TZNAME:CST
DTSTART:20251102T070000
END:STANDARD
END:VTIMEZONE
BEGIN:VEVENT
DTSTART;TZID=America/Chicago:20241114T181500
DTEND;TZID=America/Chicago:20241114T213000
DTSTAMP:20260425T093442
CREATED:20240410T185813Z
LAST-MODIFIED:20241111T180406Z
UID:10000384-1731608100-1731619800@www.buildingpeacefulbridges.org
SUMMARY:2024 Annual Event - Gather for Good
DESCRIPTION:2901 West Lake Ave\, Glenview\, IL 600266:15 – 9:30 pm\n			\n			\n				\n				\n				\n				\n			\n				\n				\n				\n				\n				\n				\n				\n				\n				\n				\n				Registration for the 2024 Gather for Good Annual Event is closed. \n			\n			\n				\n				\n				\n				\n			\n				\n				\n				\n				\n				\n				\n				\n				\n				\n				\n				Not coming to the event\, but still want to donate to help newcomer families? \n			\n			\n				\n				\n				\n				\n				\n				YES. Donate Now!\n			\n			\n				\n				\n				\n				\n			\n				\n				\n				\n				\n				\n				\n				\n				\n				\n				\n				Quilt Project\nAfter our last book club featuring Stephanie Saldana’s book\,  “What We Remember Will be Saved\,”  we were inspired to create a quilt with our newcomer families and their mentors. \nEach patch or piece of fabric symbolizes different memories\, traditions\, or aspects of their culture. When put together\, they create a cohesive and comforting whole that embodies the essence of home. \nThe idea of Home is personal and universal. Each of our families left their home countries under a variety of circumstances and are creating new homes here in the Chicago area. \nAdjusting to a new place and language can be very challenging and maintaining traditions and values from one’s home culture can provide a sense of familiarity and comfort. \nQuilts tell stories\, evoke nostalgia\, and provide a tangible connection to one’s heritage and past. They can also be a source of warmth and comfort\, both physically and emotionally. \nWe are thrilled to be making this one of a kind quilt with our families and will be using it at all of our future Educational Events to help the community gain an understanding of the newcomer journey. \n			\n				\n				\n				\n				\n				Impact\nWe will be having a fundraising appeal at this year’s event! It’s your opportunity to make a direct and immediate impact. Every dollar raised will go towards helping our newcomer families become successful\, independent members of society. \nWith your help\, we can achieve our fundraising goals! \n  \n			\n				\n				\n				\n				\n				Sponsorship Opportunities\nInterested in becoming a sponsor?See details here. \nPlease contact lorilucchetti@buildingpeacefulbridges.org. \n			\n				\n				\n				\n				\n				\n			\n			\n				\n				\n				\n				\n			\n				\n				\n				\n				\n				\n				\n				\n				\n				\n				\n				 \n			\n				\n				\n				\n				\n				\n			\n			\n				\n				\n				\n				\n				\n				\n				\n				\n				\n				Quilt Project\nAfter our last book club featuring Stephanie Saldana’s book\,  “What We Remember Will be Saved\,”  we were inspired to create a quilt with our newcomer families and their mentors. \nEach patch or piece of fabric symbolizes different memories\, traditions\, or aspects of their culture. When put together\, they create a cohesive and comforting whole that embodies the essence of home. \nThe idea of Home is personal and universal. Each of our families left their home countries under a variety of circumstances and are creating new homes here in the Chicago area. \nAdjusting to a new place and language can be very challenging and maintaining traditions and values from one’s home culture can provide a sense of familiarity and comfort. \nQuilts tell stories\, evoke nostalgia\, and provide a tangible connection to one’s heritage and past. They can also be a source of warmth and comfort\, both physically and emotionally. \nWe are thrilled to be making this one of a kind quilt with our families and will be using it at all of our future Educational Events to help the community gain an understanding of the newcomer journey. \n			\n				\n				\n				\n				\n				Impact\nWe will be having a fundraising appeal at this year’s event! It’s your opportunity to make a direct and immediate impact. Every dollar raised will go towards helping our newcomer families become successful\, independent members of society. \nWith your help\, we can achieve our fundraising goals! \n  \n			\n				\n				\n				\n				\n				Sponsorship Opportunities\nInterested in becoming a sponsor?See details here. \nPlease contact lorilucchetti@buildingpeacefulbridges.org.
URL:https://www.buildingpeacefulbridges.org/calendar/annual-event-2024/
LOCATION:The Glen Club\, 2901 West Lake Ave\, Glenview\, 60026\, United States
ORGANIZER;CN="Building Peaceful Bridges":MAILTO:admin@buildingpeacefulbridges.org
END:VEVENT
BEGIN:VEVENT
DTSTART;TZID=America/Chicago:20231130T183000
DTEND;TZID=America/Chicago:20231130T210000
DTSTAMP:20260425T093442
CREATED:20230905T205239Z
LAST-MODIFIED:20240711T205729Z
UID:10000378-1701369000-1701378000@www.buildingpeacefulbridges.org
SUMMARY:Gather for Good - Annual Event 2023
DESCRIPTION:2901 West Lake Ave\, Glenview\, IL 600266:30 – 9:00 pm\n			\n			\n				\n				\n				\n				\n			\n				\n				\n				\n				\n				\n				\n				\n				\n				\n				\n				Can’t make it to the event\, but still want to donate to help newcomer families? \n			\n			\n				\n				\n				\n				\n				\n				YES. Donate Now!\n			\n			\n				\n				\n				\n				\n			\n				\n				\n				\n				\n				\n				\n				\n				\n				\n				\n				 \n			\n				\n				\n				\n				\n				\n			\n			\n				\n				\n				\n				\n				\n				\n				\n				\n				\n				\n			\n				\n				\n				\n				\n				One week at the Residences of Hacienda Encantada in a 2- bedroom villa.  (Cabo San Lucas\, Mexico). \nBid Now\n			\n				\n				\n				\n				\n				\nPrivate sightseeing flight in the Chicago and surrounding area for up to 5 people. \nBid Now\n			\n				\n				\n				\n				\n				\nTwo Bears Game Tickets (24/25 Season)Including parking pass and team swag \nBid Now
URL:https://www.buildingpeacefulbridges.org/calendar/annual-event-2023/
LOCATION:The Glen Club\, 2901 West Lake Ave\, Glenview\, 60026\, United States
ORGANIZER;CN="Building Peaceful Bridges":MAILTO:admin@buildingpeacefulbridges.org
END:VEVENT
END:VCALENDAR